View In:
ArcMap
ArcGIS Explorer
ArcGIS JavaScript
Google Earth
View Footprint In:
Google Earth
Service Description:
Map Name: Layers
Layers:
Description:
Copyright Text:
Spatial Reference: 32719
Single Fused Map Cache: true
Tile Info:
- Height: 512
- Width: 512
- DPI: 96
- Levels of Detail: (# Levels: 8)
-
Level ID: 0
[Start Tile,
End Tile]
Resolution: 39,6875793751588
Scale: 150000
-
Level ID: 1
[Start Tile,
End Tile]
Resolution: 13,2291931250529
Scale: 50000
-
Level ID: 2
[Start Tile,
End Tile]
Resolution: 6,61459656252646
Scale: 25000
-
Level ID: 3
[Start Tile,
End Tile]
Resolution: 2,64583862501058
Scale: 10000
-
Level ID: 4
[Start Tile,
End Tile]
Resolution: 1,32291931250529
Scale: 5000
-
Level ID: 5
[Start Tile,
End Tile]
Resolution: 0,661459656252646
Scale: 2500
-
Level ID: 6
[Start Tile,
End Tile]
Resolution: 0,264583862501058
Scale: 1000
-
Level ID: 7
[Start Tile,
End Tile]
Resolution: 0,132291931250529
Scale: 500
- Format: PNG8
- Compression Quality: 0
-
Origin:
- Spatial Reference: 32719
Intial Extent:
XMin: 255391.906237046
YMin: 6274308.48400553
XMax: 261364.209452864
YMax: 6282977.37261273
Spatial Reference: 32719
Full Extent:
XMin: 248995.456955725
YMin: 6257501.47679935
XMax: 285532.176940991
YMax: 6286245.63836542
Spatial Reference: 32719
Units: esriMeters
Supported Image Format Types: PNG24,PNG,JPG,DIB,TIFF,EMF,PS,PDF,GIF,SVG,SVGZ,AI
Document Info:
- Title: Comodatos_v93
- Author:
- Comments:
- Subject:
- Category:
- Keywords:
Supported Interfaces:
REST
SOAP
WMS
WFS
WCS
Supported Operations:
Export Map
Identify
Find
Generate KML