View In:
ArcMap
ArcGIS Explorer
ArcGIS JavaScript
Google Earth
View Footprint In:
Google Earth
Service Description:
Map Name: Layers
Layers:
Description:
Copyright Text:
Spatial Reference: 24879
Single Fused Map Cache: true
Tile Info:
- Height: 256
- Width: 256
- DPI: 80
- Levels of Detail: (# Levels: 7)
-
Level ID: 0
[Start Tile,
End Tile]
Resolution: 47,6250952501905
Scale: 150000
-
Level ID: 1
[Start Tile,
End Tile]
Resolution: 15,8750317500635
Scale: 50000
-
Level ID: 2
[Start Tile,
End Tile]
Resolution: 3,1750063500127
Scale: 10000
-
Level ID: 3
[Start Tile,
End Tile]
Resolution: 1,58750317500635
Scale: 5000
-
Level ID: 4
[Start Tile,
End Tile]
Resolution: 0,793751587503175
Scale: 2500
-
Level ID: 5
[Start Tile,
End Tile]
Resolution: 0,31750063500127
Scale: 1000
-
Level ID: 6
[Start Tile,
End Tile]
Resolution: 0,158750317500635
Scale: 500
- Format: PNG8
- Compression Quality: 0
-
Origin:
- Spatial Reference: 24879
Intial Extent:
XMin: 244237.369678159
YMin: 6259261.03485578
XMax: 293594.881120881
YMax: 6285827.30084318
Spatial Reference: 24879
Full Extent:
XMin: 255060.395048547
YMin: 6259261.03485578
XMax: 282771.855750493
YMax: 6285827.30084318
Spatial Reference: 24879
Units: esriMeters
Supported Image Format Types: PNG24,PNG,JPG,DIB,TIFF,EMF,PS,PDF,GIF,SVG,SVGZ,AI
Document Info:
- Title: Luminarias_1.8
- Author: gcarmona
- Comments:
- Subject:
- Category:
- Keywords:
Supported Interfaces:
REST
SOAP
WMS
WFS
WCS
Supported Operations:
Export Map
Identify
Find
Generate KML