View In:
ArcMap
ArcGIS Explorer
ArcGIS JavaScript
Google Earth
View Footprint In:
Google Earth
Service Description:
Map Name: Layers
Layers:
Description:
Copyright Text:
Spatial Reference: 24879
Single Fused Map Cache: true
Tile Info:
- Height: 256
- Width: 256
- DPI: 80
- Levels of Detail: (# Levels: 8)
-
Level ID: 0
[Start Tile,
End Tile]
Resolution: 47,6250952501905
Scale: 150000
-
Level ID: 1
[Start Tile,
End Tile]
Resolution: 15,8750317500635
Scale: 50000
-
Level ID: 2
[Start Tile,
End Tile]
Resolution: 7,93751587503175
Scale: 25000
-
Level ID: 3
[Start Tile,
End Tile]
Resolution: 3,1750063500127
Scale: 10000
-
Level ID: 4
[Start Tile,
End Tile]
Resolution: 1,58750317500635
Scale: 5000
-
Level ID: 5
[Start Tile,
End Tile]
Resolution: 0,793751587503175
Scale: 2500
-
Level ID: 6
[Start Tile,
End Tile]
Resolution: 0,31750063500127
Scale: 1000
-
Level ID: 7
[Start Tile,
End Tile]
Resolution: 0,158750317500635
Scale: 500
- Format: PNG8
- Compression Quality: 0
-
Origin:
- Spatial Reference: 24879
Intial Extent:
XMin: 257011.244578042
YMin: 6281105.66589619
XMax: 258309.991188033
YMax: 6281804.99099387
Spatial Reference: 24879
Full Extent:
XMin: 249178.07999139
YMin: 6257874.73153841
XMax: 285714.977560794
YMax: 6286619.02646333
Spatial Reference: 24879
Units: esriMeters
Supported Image Format Types: PNG24,PNG,JPG,DIB,TIFF,EMF,PS,PDF,GIF,SVG,SVGZ,AI
Document Info:
- Title: Mapa tsunami San Antonio
- Author: SITSA
- Comments: Sistema de información territorial de San Antonio.
DOM-IMSA
- Subject:
- Category:
- Keywords:
Supported Interfaces:
REST
SOAP
Supported Operations:
Export Map
Identify
Find