View In:
ArcMap
ArcGIS Explorer
ArcGIS JavaScript
Google Earth
View Footprint In:
Google Earth
Service Description:
Map Name: PREDIOS_MULISERVICIO
Layers:
Description:
Copyright Text:
Spatial Reference: 32719
Single Fused Map Cache: true
Tile Info:
- Height: 512
- Width: 512
- DPI: 96
- Levels of Detail: (# Levels: 8)
-
Level ID: 0
[Start Tile,
End Tile]
Resolution: 39,6875793751588
Scale: 150000
-
Level ID: 1
[Start Tile,
End Tile]
Resolution: 13,2291931250529
Scale: 50000
-
Level ID: 2
[Start Tile,
End Tile]
Resolution: 6,61459656252646
Scale: 25000
-
Level ID: 3
[Start Tile,
End Tile]
Resolution: 2,64583862501058
Scale: 10000
-
Level ID: 4
[Start Tile,
End Tile]
Resolution: 1,32291931250529
Scale: 5000
-
Level ID: 5
[Start Tile,
End Tile]
Resolution: 0,661459656252646
Scale: 2500
-
Level ID: 6
[Start Tile,
End Tile]
Resolution: 0,264583862501058
Scale: 1000
-
Level ID: 7
[Start Tile,
End Tile]
Resolution: 0,132291931250529
Scale: 500
- Format: PNG8
- Compression Quality: 0
-
Origin:
- Spatial Reference: 32719
Intial Extent:
XMin: 247867.364842097
YMin: 6272615.85605911
XMax: 268478.44773093
YMax: 6284350.15036103
Spatial Reference: 32719
Full Extent:
XMin: 249189.036319422
YMin: 6257932.70090337
XMax: 285724.350705584
YMax: 6286676.30618346
Spatial Reference: 32719
Units: esriMeters
Supported Image Format Types: PNG24,PNG,JPG,DIB,TIFF,EMF,PS,PDF,GIF,SVG,SVGZ,AI
Document Info:
- Title: plan_regulador
- Author: cgonzalez
- Comments:
- Subject:
- Category:
- Keywords:
Supported Interfaces:
REST
SOAP
WMS
Supported Operations:
Export Map
Identify
Find
Generate KML